BEGIN:VCALENDAR
VERSION:2.0
PRODID:-//Blade of Vengeance - ECPv6.15.20//NONSGML v1.0//EN
CALSCALE:GREGORIAN
METHOD:PUBLISH
X-WR-CALNAME:Blade of Vengeance
X-ORIGINAL-URL:https://bov.optimusblue.com
X-WR-CALDESC:Events for Blade of Vengeance
REFRESH-INTERVAL;VALUE=DURATION:PT1H
X-Robots-Tag:noindex
X-PUBLISHED-TTL:PT1H
BEGIN:VTIMEZONE
TZID:Europe/London
BEGIN:DAYLIGHT
TZOFFSETFROM:+0000
TZOFFSETTO:+0100
TZNAME:BST
DTSTART:20240331T010000
END:DAYLIGHT
BEGIN:STANDARD
TZOFFSETFROM:+0100
TZOFFSETTO:+0000
TZNAME:GMT
DTSTART:20241027T010000
END:STANDARD
BEGIN:DAYLIGHT
TZOFFSETFROM:+0000
TZOFFSETTO:+0100
TZNAME:BST
DTSTART:20250330T010000
END:DAYLIGHT
BEGIN:STANDARD
TZOFFSETFROM:+0100
TZOFFSETTO:+0000
TZNAME:GMT
DTSTART:20251026T010000
END:STANDARD
BEGIN:DAYLIGHT
TZOFFSETFROM:+0000
TZOFFSETTO:+0100
TZNAME:BST
DTSTART:20260329T010000
END:DAYLIGHT
BEGIN:STANDARD
TZOFFSETFROM:+0100
TZOFFSETTO:+0000
TZNAME:GMT
DTSTART:20261025T010000
END:STANDARD
END:VTIMEZONE
BEGIN:VEVENT
DTSTART;TZID=Europe/London:20250207T160000
DTEND;TZID=Europe/London:20250210T100000
DTSTAMP:20260423T215113
CREATED:20250201T130042Z
LAST-MODIFIED:20250210T101942Z
UID:161-1738944000-1739181600@bov.optimusblue.com
SUMMARY:Ranked War Weekend
DESCRIPTION:Opponents to be announced
URL:https://bov.optimusblue.com/event/ranked-war-weekend/
CATEGORIES:Ranked War
ATTACH;FMTTYPE=image/jpeg:https://bov.optimusblue.com/wp-content/uploads/2025/01/ZZgZaSTHVGvlyLmXay1K-0-41sfp.jpg
END:VEVENT
END:VCALENDAR